BEGIN:VCALENDAR
VERSION:2.0
PRODID:-//hacksw/handcal//NONSGML v1.0//EN
BEGIN:VEVENT
DTSTAMP:20250526T163000Z
DTSTART:20250526T163000Z
DTEND:20250526T200000Z
LOCATION:Haus der Begegnung, Dr.-Julius-Stinde-Straße 2 , Lensahn ,  23738, Deutschland
SUMMARY:bundespolitischen und kommunalpolitischen Austausch
END:VEVENT
END:VCALENDAR
