BEGIN:VCALENDAR
VERSION:2.0
PRODID:-//hacksw/handcal//NONSGML v1.0//EN
BEGIN:VEVENT
DTSTAMP:20260510T220000Z
DTSTART:20260510T220000Z
DTEND:20260510T220000Z
LOCATION:Uwe-Seeler Fußball Park, Am Stadion 4, Malente, 23714, Deutschland
SUMMARY:1. Regionalkonferenz im Wahlkreis Plön-Ostholstein zur Landtagswahl 2027
END:VEVENT
END:VCALENDAR
