BEGIN:VCALENDAR
VERSION:2.0
PRODID:-//hacksw/handcal//NONSGML v1.0//EN
BEGIN:VEVENT
DTSTAMP:20260428T170000Z
DTSTART:20260428T170000Z
DTEND:20260428T170000Z
LOCATION:Waldhotel Riesebusch, Sonnenweg 1, Bad Schwartau, 23611, Deutschland
SUMMARY:Jahreshauptversammlung des OV Bad Schwartau
END:VEVENT
END:VCALENDAR
