BEGIN:VCALENDAR
VERSION:2.0
PRODID:-//hacksw/handcal//NONSGML v1.0//EN
BEGIN:VEVENT
DTSTAMP:20260513T110000Z
DTSTART:20260513T110000Z
DTEND:20260513T123000Z
LOCATION:Brauhaus Eutin, Markt 11, Eutin, 23701, Deutschland
SUMMARY:Vortrag: Rausch, Risiko, Regulierung - wie viel Staat braucht Gesundheit?
END:VEVENT
END:VCALENDAR
