BEGIN:VCALENDAR
VERSION:2.0
PRODID:-//hacksw/handcal//NONSGML v1.0//EN
BEGIN:VEVENT
DTSTAMP:20260512T170000Z
DTSTART:20260512T170000Z
DTEND:20260512T170000Z
LOCATION:Haus des Gastes, Neukirchen, 23779, Deutschland
SUMMARY:Jahreshauptversammlung des OV Neukirchen
END:VEVENT
END:VCALENDAR
