BEGIN:VCALENDAR
VERSION:2.0
PRODID:-//hacksw/handcal//NONSGML v1.0//EN
BEGIN:VEVENT
DTSTAMP:20260607T220000Z
DTSTART:20260607T220000Z
DTEND:20260607T220000Z
LOCATION:Großenbrode, Deutschland
SUMMARY:Jahreshauptversammlung des OV Großenbrode
END:VEVENT
END:VCALENDAR
