BEGIN:VCALENDAR
VERSION:2.0
PRODID:-//hacksw/handcal//NONSGML v1.0//EN
BEGIN:VEVENT
DTSTAMP:20260619T220000Z
DTSTART:20260619T220000Z
DTEND:20260619T220000Z
SUMMARY:Kreisverbandstag der Jungen Union
END:VEVENT
END:VCALENDAR
