BEGIN:VCALENDAR
VERSION:2.0
PRODID:-//hacksw/handcal//NONSGML v1.0//EN
BEGIN:VEVENT
DTSTAMP:20261010T120000Z
DTSTART:20261010T120000Z
DTEND:20261010T160000Z
LOCATION:Mensa des Gymnasiums am Mühlenberg, Ludwig-Jahn-Straße 13, Bad Schwartau, 23611, Deutschland
SUMMARY:Jahreshauptversammlung der OMV
END:VEVENT
END:VCALENDAR
