BEGIN:VCALENDAR
VERSION:2.0
PRODID:-//hacksw/handcal//NONSGML v1.0//EN
BEGIN:VEVENT
DTSTAMP:20260505T160000Z
DTSTART:20260505T160000Z
DTEND:20260505T160000Z
LOCATION:Eutiner Schloss - Rittersaal, Schloßplatz 5, Eutin, 23701, Deutschland
SUMMARY:Europatag der EuropaUnion Ostholstein
END:VEVENT
END:VCALENDAR
